BEGIN:VCALENDAR
VERSION:2.0
PRODID:-//ChamberMaster//Event Calendar 2.0//EN
METHOD:PUBLISH
X-PUBLISHED-TTL:P1H
REFRESH-INTERVAL:P1H
CALSCALE:GREGORIAN
BEGIN:VTIMEZONE
TZID:America/Chicago
BEGIN:DAYLIGHT
RRULE:FREQ=YEARLY;BYMONTH=3;BYDAY=2SU
DTSTART:20070101T000000
TZOFFSETFROM:-0600
TZOFFSETTO:-0500
TZNAME:Central Daylight Time
END:DAYLIGHT
BEGIN:STANDARD
RRULE:FREQ=YEARLY;BYMONTH=11;BYDAY=1SU
DTSTART:20070101T000000
TZOFFSETFROM:-0500
TZOFFSETTO:-0600
TZNAME:Central Standard Time
END:STANDARD
END:VTIMEZONE
BEGIN:VEVENT
DTSTART;TZID=America/Chicago:20251220T180000
DTEND;TZID=America/Chicago:20251220T210000
X-MICROSOFT-CDO-ALLDAYEVENT:FALSE
SUMMARY:Wavelike Dance Centre Christmas Party
DESCRIPTION:Food/Drinks/Dance Performance\nWayne City Auditorium\nSaturday\, December 20 at 6:00pm\nFree Entry
X-ALT-DESC;FMTTYPE=text/html:Food/Drinks/Dance Performance\nWayne City Auditorium\nSaturday\, December 20 at 6:00pm\nFree Entry
LOCATION:220 N Pearl St. Wayne NE 68787
UID:e.3678.1349850
SEQUENCE:3
DTSTAMP:20260420T142505Z
URL:https://business.wayneamerica.org/events/Details/wavelike-dance-centre-christmas-party-1587399?sourceTypeId=Hub
END:VEVENT
END:VCALENDAR
