BEGIN:VCALENDAR
VERSION:2.0
PRODID:-//ChamberMaster//Event Calendar 2.0//EN
METHOD:PUBLISH
X-PUBLISHED-TTL:P1H
REFRESH-INTERVAL:P1H
CALSCALE:GREGORIAN
BEGIN:VTIMEZONE
TZID:America/Chicago
BEGIN:DAYLIGHT
RRULE:FREQ=YEARLY;BYMONTH=3;BYDAY=2SU
DTSTART:20070101T000000
TZOFFSETFROM:-0600
TZOFFSETTO:-0500
TZNAME:Central Daylight Time
END:DAYLIGHT
BEGIN:STANDARD
RRULE:FREQ=YEARLY;BYMONTH=11;BYDAY=1SU
DTSTART:20070101T000000
TZOFFSETFROM:-0500
TZOFFSETTO:-0600
TZNAME:Central Standard Time
END:STANDARD
END:VTIMEZONE
BEGIN:VEVENT
DTSTART;TZID=America/Chicago:20260530T110000
DTEND;TZID=America/Chicago:20260530T180000
X-MICROSOFT-CDO-ALLDAYEVENT:FALSE
SUMMARY:Sand Volleyball Tournament | The Jug's 10 Year Anniversary
DESCRIPTION:Summer Kickoff\, happening on May 30th @ 11am! \n- At least 6 people/team\n- Food & alcohol available (21+)\n- $60/team entry fee\n- 1st & 2nd place prizes \n- Theme: Hawaiian Out\n- Register via email: kambrynnelson01@gmail.com
X-ALT-DESC;FMTTYPE=text/html:Summer Kickoff\, happening on May 30th @ 11am! \n- At least 6 people/team\n- Food & alcohol available (21+)\n- $60/team entry fee\n- 1st & 2nd place prizes \n- Theme: Hawaiian Out\n- Register via email: kambrynnelson01@gmail.com
LOCATION:1005 E 7th Street Wayne NE 68787
UID:e.3678.1448873
SEQUENCE:3
DTSTAMP:20260424T025951Z
URL:https://business.wayneamerica.org/events/Details/sand-volleyball-tournament-the-jug-s-10-year-anniversary-1716179?sourceTypeId=Hub
END:VEVENT
END:VCALENDAR
