BEGIN:VCALENDAR
VERSION:2.0
PRODID:-//ChamberMaster//Event Calendar 2.0//EN
METHOD:PUBLISH
X-PUBLISHED-TTL:P1H
REFRESH-INTERVAL:P1H
CALSCALE:GREGORIAN
BEGIN:VTIMEZONE
TZID:America/Chicago
BEGIN:DAYLIGHT
RRULE:FREQ=YEARLY;BYMONTH=3;BYDAY=2SU
DTSTART:20070101T000000
TZOFFSETFROM:-0600
TZOFFSETTO:-0500
TZNAME:Central Daylight Time
END:DAYLIGHT
BEGIN:STANDARD
RRULE:FREQ=YEARLY;BYMONTH=11;BYDAY=1SU
DTSTART:20070101T000000
TZOFFSETFROM:-0500
TZOFFSETTO:-0600
TZNAME:Central Standard Time
END:STANDARD
END:VTIMEZONE
BEGIN:VEVENT
DTSTART;VALUE=DATE:20260426
DTEND;VALUE=DATE:20260504
TRANSP:TRANSPARENT
X-MICROSOFT-CDO-ALLDAYEVENT:TRUE
SUMMARY:Light the Night for Fallen Firefighters April 26-May 3
DESCRIPTION:Join Paul Davis Restoration & Remodeling of Northern Nebraska in this national remembrance honoring America's fallen fire heroes by lighting up your business or home in red from Sunday\, April 26 to Sunday\, May 3. How to Participate: Light Up Red - This could be done by changing light bulbs\, using light strips\, or a red spotlight. Share Your Tribute & Spread Awareness - If you participate\, let us know by posting photos of your red light tribute on Facebook and tagging @pauldavisnorthernne! Also tag your local Fire Department and the National Fallen Firefighters Foundation with the hashtags #NFFFLighttheNight2026 and #FIREHERO2026. Light the Night for Fallen Fireﬁghters is an initiative organized by the National Fallen Fireﬁghters Foundation (NFFF). Paul Davis is a proud supporter of NFFF. Learn more about this remembrance at FIREHERO.ORG/LIGHT-THE-NIGHT. Contact Hannah Bose at Paul Davis with questions: (402) 920-3706 | hannah.bose@pauldavis.com
X-ALT-DESC;FMTTYPE=text/html:<!DOCTYPE html><html><head><title></title></head><body aria-disabled="false"><p>Join Paul Davis Restoration &amp\; Remodeling of Northern Nebraska in this national remembrance honoring America&rsquo\;s fallen fire heroes by lighting up your business or home in red from Sunday\, April 26 to Sunday\, May 3.&nbsp\;</p><p>How to Participate: Light Up Red - This could be done by changing light bulbs\, using light strips\, or a red spotlight. Share Your Tribute &amp\; Spread Awareness - If you participate\, let us know by posting photos of your red light tribute on Facebook and tagging @pauldavisnorthernne! Also tag your local Fire Department and the National Fallen Firefighters Foundation with the hashtags #NFFFLighttheNight2026 and #FIREHERO2026.&nbsp\;</p><p>Light the Night for Fallen Fireﬁghters is an initiative organized by the National Fallen Fireﬁghters Foundation (NFFF). Paul Davis is a proud supporter of NFFF. Learn more about this remembrance at FIREHERO.ORG/LIGHT-THE-NIGHT. Contact Hannah Bose at Paul Davis with questions: (402) 920-3706 | hannah.bose@pauldavis.com</p></body></html>
LOCATION:
UID:e.3678.1448411
SEQUENCE:3
DTSTAMP:20260422T000308Z
URL:https://business.wayneamerica.org/events/Details/light-the-night-for-fallen-firefighters-april-26-may-3-1715410?sourceTypeId=Hub
END:VEVENT
END:VCALENDAR
