BEGIN:VCALENDAR
VERSION:2.0
PRODID:-//ChamberMaster//Event Calendar 2.0//EN
METHOD:PUBLISH
X-PUBLISHED-TTL:P1H
REFRESH-INTERVAL:P1H
CALSCALE:GREGORIAN
BEGIN:VTIMEZONE
TZID:America/Chicago
BEGIN:DAYLIGHT
RRULE:FREQ=YEARLY;BYMONTH=3;BYDAY=2SU
DTSTART:20070101T000000
TZOFFSETFROM:-0600
TZOFFSETTO:-0500
TZNAME:Central Daylight Time
END:DAYLIGHT
BEGIN:STANDARD
RRULE:FREQ=YEARLY;BYMONTH=11;BYDAY=1SU
DTSTART:20070101T000000
TZOFFSETFROM:-0500
TZOFFSETTO:-0600
TZNAME:Central Standard Time
END:STANDARD
END:VTIMEZONE
BEGIN:VEVENT
DTSTART;TZID=America/Chicago:20260506T183000
DTEND;TZID=America/Chicago:20260506T194500
X-MICROSOFT-CDO-ALLDAYEVENT:FALSE
SUMMARY:Cost of Living Round Table Discussion: Hosted by United Today Stronger Tomorrow
DESCRIPTION:You're invited to a round table discussion bringing locals of all political backgrounds together to discuss the cost of living in Northeast Nebraska!\n\nWe'll share some refreshments and chat about cost of living issues at the local\, federal\, and state levels and decide what we can do to hold our elected officials accountable.\n\nBring your creativity because we'll be hosting a community art project for the 250th Anniversary of the United States at this event as well! And there will also be a collection space for canned food to support the Wakefield Food Pantry. \n\nDATE: Wednesday\, May 6\, 2026\nTIME: 6:30PM - 7:45PM \nLOCATION: Max Bar & Grill \n\nunitedtoday.org/wayne-meeting
X-ALT-DESC;FMTTYPE=text/html:You're invited to a round table discussion bringing locals of all political backgrounds together to discuss the cost of living in Northeast Nebraska!\n\nWe'll share some refreshments and chat about cost of living issues at the local\, federal\, and state levels and decide what we can do to hold our elected officials accountable.\n\nBring your creativity because we'll be hosting a community art project for the 250th Anniversary of the United States at this event as well! And there will also be a collection space for canned food to support the Wakefield Food Pantry. \n\nDATE: Wednesday\, May 6\, 2026\nTIME: 6:30PM - 7:45PM \nLOCATION: Max Bar & Grill \n\nunitedtoday.org/wayne-meeting
LOCATION:109 Main Street Back Room Wayne NE 68787
UID:e.3678.1446596
SEQUENCE:3
DTSTAMP:20260420T094854Z
URL:https://business.wayneamerica.org/events/Details/cost-of-living-round-table-discussion-hosted-by-united-today-stronger-tomorrow-1713371?sourceTypeId=Hub
END:VEVENT
END:VCALENDAR
