BEGIN:VCALENDAR
VERSION:2.0
PRODID:-//ChamberMaster//Event Calendar 2.0//EN
METHOD:PUBLISH
X-PUBLISHED-TTL:P1H
REFRESH-INTERVAL:P1H
CALSCALE:GREGORIAN
BEGIN:VTIMEZONE
TZID:America/Chicago
BEGIN:DAYLIGHT
RRULE:FREQ=YEARLY;BYMONTH=3;BYDAY=2SU
DTSTART:20070101T000000
TZOFFSETFROM:-0600
TZOFFSETTO:-0500
TZNAME:Central Daylight Time
END:DAYLIGHT
BEGIN:STANDARD
RRULE:FREQ=YEARLY;BYMONTH=11;BYDAY=1SU
DTSTART:20070101T000000
TZOFFSETFROM:-0500
TZOFFSETTO:-0600
TZNAME:Central Standard Time
END:STANDARD
END:VTIMEZONE
BEGIN:VEVENT
DTSTART;TZID=America/Chicago:20260430T190000
DTEND;TZID=America/Chicago:20260430T200000
X-MICROSOFT-CDO-ALLDAYEVENT:FALSE
SUMMARY:COMMUNITY FORUM: STATE OF THE SCHOOLS
DESCRIPTION:📢 COMMUNITY FORUM: STATE OF THE SCHOOLSWayne Community Schools"Learning for Life   Every Student\, Every Day!"📅 WHEN & WHEREDate: Thursday\, April 30thTime: 7:00 PMLocation: F.R. Hahn Auditorium(Located at the Jr/Sr High School\, 611 West 7th Street\, Wayne\, NE 68787)💡 WHY ATTEND?Your voice and interest shape the future of our students. Join us for an evening dedicated to transparency and community engagement.District-wide information on the school profile: Get an in-depth look at our current school profile\, including student performance\, financial status\, upcoming goals\, and district initiatives.Question & Answer Session: This is your opportunity to speak directly with school leadership. Bring your questions and share your thoughts on the direction of our schools.👥 WHO SHOULD ATTEND?Parents and GuardiansLocal Business OwnersCommunity StakeholdersProspective FamiliesLet's work together to continue making Wayne Community Schools a place of excellence for every student.For more information\, please visit:🌐 📞 (402) 375-3150
X-ALT-DESC;FMTTYPE=text/html:<!DOCTYPE html><html><head><title></title></head><body aria-disabled="false"><p style='color: rgb(36\, 36\, 36)\; font-family: "Segoe UI"\, "Segoe UI Web (West European)"\, -apple-system\, BlinkMacSystemFont\, Roboto\, "Helvetica Neue"\, sans-serif\; font-size: 15px\; font-style: normal\; font-variant-ligatures: normal\; font-variant-caps: normal\; font-weight: 400\; letter-spacing: normal\; orphans: 2\; text-align: start\; text-indent: 0px\; text-transform: none\; widows: 2\; word-spacing: 0px\; -webkit-text-stroke-width: 0px\; white-space: normal\; background-color: rgb(255\, 255\, 255)\; text-decoration-thickness: initial\; text-decoration-style: initial\; text-decoration-color: initial\;'><span data-olk-copy-source="MessageBody" style="border: 0px\; font-style: inherit\; font-variant: inherit\; font-weight: 400\; font-stretch: inherit\; font-size: inherit\; line-height: inherit\; font-family: inherit\; font-optical-sizing: inherit\; font-size-adjust: inherit\; font-kerning: inherit\; font-feature-settings: inherit\; font-variation-settings: inherit\; font-language-override: inherit\; margin: 0px\; padding: 0px\; vertical-align: baseline\; color: inherit\;">📢 COMMUNITY FORUM: STATE OF THE SCHOOLS</span></p><p style='color: rgb(36\, 36\, 36)\; font-family: "Segoe UI"\, "Segoe UI Web (West European)"\, -apple-system\, BlinkMacSystemFont\, Roboto\, "Helvetica Neue"\, sans-serif\; font-size: 15px\; font-style: normal\; font-variant-ligatures: normal\; font-variant-caps: normal\; font-weight: 400\; letter-spacing: normal\; orphans: 2\; text-align: start\; text-indent: 0px\; text-transform: none\; widows: 2\; word-spacing: 0px\; -webkit-text-stroke-width: 0px\; white-space: normal\; background-color: rgb(255\, 255\, 255)\; text-decoration-thickness: initial\; text-decoration-style: initial\; text-decoration-color: initial\;'><span style="border: 0px\; font-style: inherit\; font-variant: inherit\; font-weight: 400\; font-stretch: inherit\; font-size: inherit\; line-height: inherit\; font-family: inherit\; font-optical-sizing: inherit\; font-size-adjust: inherit\; font-kerning: inherit\; font-feature-settings: inherit\; font-variation-settings: inherit\; font-language-override: inherit\; margin: 0px\; padding: 0px\; vertical-align: baseline\; color: inherit\;">Wayne Community Schools</span></p><p style='color: rgb(36\, 36\, 36)\; font-family: "Segoe UI"\, "Segoe UI Web (West European)"\, -apple-system\, BlinkMacSystemFont\, Roboto\, "Helvetica Neue"\, sans-serif\; font-size: 15px\; font-style: normal\; font-variant-ligatures: normal\; font-variant-caps: normal\; font-weight: 400\; letter-spacing: normal\; orphans: 2\; text-align: start\; text-indent: 0px\; text-transform: none\; widows: 2\; word-spacing: 0px\; -webkit-text-stroke-width: 0px\; white-space: normal\; background-color: rgb(255\, 255\, 255)\; text-decoration-thickness: initial\; text-decoration-style: initial\; text-decoration-color: initial\;'><em><span style="border: 0px\; font-style: inherit\; font-variant: inherit\; font-weight: 400\; font-stretch: inherit\; font-size: inherit\; line-height: inherit\; font-family: inherit\; font-optical-sizing: inherit\; font-size-adjust: inherit\; font-kerning: inherit\; font-feature-settings: inherit\; font-variation-settings: inherit\; font-language-override: inherit\; margin: 0px\; padding: 0px\; vertical-align: baseline\; color: inherit\;">&ldquo\;Learning for Life &ndash\; Every Student\, Every Day!&rdquo\;</span></em></p><p style='color: rgb(36\, 36\, 36)\; font-family: "Segoe UI"\, "Segoe UI Web (West European)"\, -apple-system\, BlinkMacSystemFont\, Roboto\, "Helvetica Neue"\, sans-serif\; font-size: 15px\; font-style: normal\; font-variant-ligatures: normal\; font-variant-caps: normal\; font-weight: 400\; letter-spacing: normal\; orphans: 2\; text-align: start\; text-indent: 0px\; text-transform: none\; widows: 2\; word-spacing: 0px\; -webkit-text-stroke-width: 0px\; white-space: normal\; background-color: rgb(255\, 255\, 255)\; text-decoration-thickness: initial\; text-decoration-style: initial\; text-decoration-color: initial\;'><span style="border: 0px\; font-style: inherit\; font-variant: inherit\; font-weight: 400\; font-stretch: inherit\; font-size: inherit\; line-height: inherit\; font-family: inherit\; font-optical-sizing: inherit\; font-size-adjust: inherit\; font-kerning: inherit\; font-feature-settings: inherit\; font-variation-settings: inherit\; font-language-override: inherit\; margin: 0px\; padding: 0px\; vertical-align: baseline\; color: inherit\;">📅 WHEN &amp\; WHERE</span></p><p style='color: rgb(36\, 36\, 36)\; font-family: "Segoe UI"\, "Segoe UI Web (West European)"\, -apple-system\, BlinkMacSystemFont\, Roboto\, "Helvetica Neue"\, sans-serif\; font-size: 15px\; font-style: normal\; font-variant-ligatures: normal\; font-variant-caps: normal\; font-weight: 400\; letter-spacing: normal\; orphans: 2\; text-align: start\; text-indent: 0px\; text-transform: none\; widows: 2\; word-spacing: 0px\; -webkit-text-stroke-width: 0px\; white-space: normal\; background-color: rgb(255\, 255\, 255)\; text-decoration-thickness: initial\; text-decoration-style: initial\; text-decoration-color: initial\;'><strong fr-original-style="" style="font-weight: 700\;">Date:</strong><span style="border: 0px\; font-style: inherit\; font-variant: inherit\; font-weight: 400\; font-stretch: inherit\; font-size: inherit\; line-height: inherit\; font-family: inherit\; font-optical-sizing: inherit\; font-size-adjust: inherit\; font-kerning: inherit\; font-feature-settings: inherit\; font-variation-settings: inherit\; font-language-override: inherit\; margin: 0px\; padding: 0px\; vertical-align: baseline\; color: inherit\;">&nbsp\;Thursday\, April 30th</span></p><p style='color: rgb(36\, 36\, 36)\; font-family: "Segoe UI"\, "Segoe UI Web (West European)"\, -apple-system\, BlinkMacSystemFont\, Roboto\, "Helvetica Neue"\, sans-serif\; font-size: 15px\; font-style: normal\; font-variant-ligatures: normal\; font-variant-caps: normal\; font-weight: 400\; letter-spacing: normal\; orphans: 2\; text-align: start\; text-indent: 0px\; text-transform: none\; widows: 2\; word-spacing: 0px\; -webkit-text-stroke-width: 0px\; white-space: normal\; background-color: rgb(255\, 255\, 255)\; text-decoration-thickness: initial\; text-decoration-style: initial\; text-decoration-color: initial\;'><strong fr-original-style="" style="font-weight: 700\;">Time:</strong><span style="border: 0px\; font-style: inherit\; font-variant: inherit\; font-weight: 400\; font-stretch: inherit\; font-size: inherit\; line-height: inherit\; font-family: inherit\; font-optical-sizing: inherit\; font-size-adjust: inherit\; font-kerning: inherit\; font-feature-settings: inherit\; font-variation-settings: inherit\; font-language-override: inherit\; margin: 0px\; padding: 0px\; vertical-align: baseline\; color: inherit\;">&nbsp\;7:00 PM</span></p><p style='color: rgb(36\, 36\, 36)\; font-family: "Segoe UI"\, "Segoe UI Web (West European)"\, -apple-system\, BlinkMacSystemFont\, Roboto\, "Helvetica Neue"\, sans-serif\; font-size: 15px\; font-style: normal\; font-variant-ligatures: normal\; font-variant-caps: normal\; font-weight: 400\; letter-spacing: normal\; orphans: 2\; text-align: start\; text-indent: 0px\; text-transform: none\; widows: 2\; word-spacing: 0px\; -webkit-text-stroke-width: 0px\; white-space: normal\; background-color: rgb(255\, 255\, 255)\; text-decoration-thickness: initial\; text-decoration-style: initial\; text-decoration-color: initial\;'><strong fr-original-style="" style="font-weight: 700\;">Location:</strong><span style="border: 0px\; font-style: inherit\; font-variant: inherit\; font-weight: 400\; font-stretch: inherit\; font-size: inherit\; line-height: inherit\; font-family: inherit\; font-optical-sizing: inherit\; font-size-adjust: inherit\; font-kerning: inherit\; font-feature-settings: inherit\; font-variation-settings: inherit\; font-language-override: inherit\; margin: 0px\; padding: 0px\; vertical-align: baseline\; color: inherit\;">&nbsp\;F.R. Hahn Auditorium</span></p><p style='color: rgb(36\, 36\, 36)\; font-family: "Segoe UI"\, "Segoe UI Web (West European)"\, -apple-system\, BlinkMacSystemFont\, Roboto\, "Helvetica Neue"\, sans-serif\; font-size: 15px\; font-style: normal\; font-variant-ligatures: normal\; font-variant-caps: normal\; font-weight: 400\; letter-spacing: normal\; orphans: 2\; text-align: start\; text-indent: 0px\; text-transform: none\; widows: 2\; word-spacing: 0px\; -webkit-text-stroke-width: 0px\; white-space: normal\; background-color: rgb(255\, 255\, 255)\; text-decoration-thickness: initial\; text-decoration-style: initial\; text-decoration-color: initial\;'><em><span style="border: 0px\; font-style: inherit\; font-variant: inherit\; font-weight: 400\; font-stretch: inherit\; font-size: inherit\; line-height: inherit\; font-family: inherit\; font-optical-sizing: inherit\; font-size-adjust: inherit\; font-kerning: inherit\; font-feature-settings: inherit\; font-variation-settings: inherit\; font-language-override: inherit\; margin: 0px\; padding: 0px\; vertical-align: baseline\; color: inherit\;">(Located at the Jr/Sr High School\, 611 West 7th Street\, Wayne\, NE 68787)</span></em></p><p style='color: rgb(36\, 36\, 36)\; font-family: "Segoe UI"\, "Segoe UI Web (West European)"\, -apple-system\, BlinkMacSystemFont\, Roboto\, "Helvetica Neue"\, sans-serif\; font-size: 15px\; font-style: normal\; font-variant-ligatures: normal\; font-variant-caps: normal\; font-weight: 400\; letter-spacing: normal\; orphans: 2\; text-align: start\; text-indent: 0px\; text-transform: none\; widows: 2\; word-spacing: 0px\; -webkit-text-stroke-width: 0px\; white-space: normal\; background-color: rgb(255\, 255\, 255)\; text-decoration-thickness: initial\; text-decoration-style: initial\; text-decoration-color: initial\;'><span style="border: 0px\; font-style: inherit\; font-variant: inherit\; font-weight: 400\; font-stretch: inherit\; font-size: inherit\; line-height: inherit\; font-family: inherit\; font-optical-sizing: inherit\; font-size-adjust: inherit\; font-kerning: inherit\; font-feature-settings: inherit\; font-variation-settings: inherit\; font-language-override: inherit\; margin: 0px\; padding: 0px\; vertical-align: baseline\; color: inherit\;">💡 WHY ATTEND?</span></p><p style='color: rgb(36\, 36\, 36)\; font-family: "Segoe UI"\, "Segoe UI Web (West European)"\, -apple-system\, BlinkMacSystemFont\, Roboto\, "Helvetica Neue"\, sans-serif\; font-size: 15px\; font-style: normal\; font-variant-ligatures: normal\; font-variant-caps: normal\; font-weight: 400\; letter-spacing: normal\; orphans: 2\; text-align: start\; text-indent: 0px\; text-transform: none\; widows: 2\; word-spacing: 0px\; -webkit-text-stroke-width: 0px\; white-space: normal\; background-color: rgb(255\, 255\, 255)\; text-decoration-thickness: initial\; text-decoration-style: initial\; text-decoration-color: initial\;'><span style="border: 0px\; font-style: inherit\; font-variant: inherit\; font-weight: 400\; font-stretch: inherit\; font-size: inherit\; line-height: inherit\; font-family: inherit\; font-optical-sizing: inherit\; font-size-adjust: inherit\; font-kerning: inherit\; font-feature-settings: inherit\; font-variation-settings: inherit\; font-language-override: inherit\; margin: 0px\; padding: 0px\; vertical-align: baseline\; color: inherit\;">Your voice and interest shape the future of our students. Join us for an evening dedicated to transparency and community engagement.</span></p><ul fr-original-style='color: rgb(36\, 36\, 36)\; font-family: "Segoe UI"\, "Segoe UI Web (West European)"\, -apple-system\, BlinkMacSystemFont\, Roboto\, "Helvetica Neue"\, sans-serif\; font-size: 15px\; font-style: normal\; font-variant-ligatures: normal\; font-variant-caps: normal\; font-weight: 400\; letter-spacing: normal\; orphans: 2\; text-align: start\; text-indent: 0px\; text-transform: none\; widows: 2\; word-spacing: 0px\; -webkit-text-stroke-width: 0px\; white-space: normal\; background-color: rgb(255\, 255\, 255)\; text-decoration-thickness: initial\; text-decoration-style: initial\; text-decoration-color: initial\;' style='color: rgb(36\, 36\, 36)\; font-family: "Segoe UI"\, "Segoe UI Web (West European)"\, -apple-system\, BlinkMacSystemFont\, Roboto\, "Helvetica Neue"\, sans-serif\; font-size: 15px\; font-style: normal\; font-variant-ligatures: normal\; font-variant-caps: normal\; font-weight: 400\; letter-spacing: normal\; orphans: 2\; text-align: start\; text-indent: 0px\; text-transform: none\; widows: 2\; word-spacing: 0px\; -webkit-text-stroke-width: 0px\; white-space: normal\; background-color: rgb(255\, 255\, 255)\; text-decoration-thickness: initial\; text-decoration-style: initial\; text-decoration-color: initial\; list-style-position: inside\;'><li aria-level="1" style="font-weight: 400\;"><strong fr-original-style="" style="font-weight: 700\;">District-wide information on the school profile:</strong><span style="border: 0px\; font-style: inherit\; font-variant: inherit\; font-weight: 400\; font-stretch: inherit\; font-size: inherit\; line-height: inherit\; font-family: inherit\; font-optical-sizing: inherit\; font-size-adjust: inherit\; font-kerning: inherit\; font-feature-settings: inherit\; font-variation-settings: inherit\; font-language-override: inherit\; margin: 0px\; padding: 0px\; vertical-align: baseline\; color: inherit\;">&nbsp\;Get an in-depth look at our current school profile\, including student performance\, financial status\, upcoming goals\, and district initiatives.</span></li><li aria-level="1" style="font-weight: 400\;"><strong fr-original-style="" style="font-weight: 700\;">Question &amp\; Answer Session:</strong><span style="border: 0px\; font-style: inherit\; font-variant: inherit\; font-weight: 400\; font-stretch: inherit\; font-size: inherit\; line-height: inherit\; font-family: inherit\; font-optical-sizing: inherit\; font-size-adjust: inherit\; font-kerning: inherit\; font-feature-settings: inherit\; font-variation-settings: inherit\; font-language-override: inherit\; margin: 0px\; padding: 0px\; vertical-align: baseline\; color: inherit\;">&nbsp\;This is your opportunity to speak directly with school leadership. Bring your questions and share your thoughts on the direction of our schools.</span></li></ul><p style='color: rgb(36\, 36\, 36)\; font-family: "Segoe UI"\, "Segoe UI Web (West European)"\, -apple-system\, BlinkMacSystemFont\, Roboto\, "Helvetica Neue"\, sans-serif\; font-size: 15px\; font-style: normal\; font-variant-ligatures: normal\; font-variant-caps: normal\; font-weight: 400\; letter-spacing: normal\; orphans: 2\; text-align: start\; text-indent: 0px\; text-transform: none\; widows: 2\; word-spacing: 0px\; -webkit-text-stroke-width: 0px\; white-space: normal\; background-color: rgb(255\, 255\, 255)\; text-decoration-thickness: initial\; text-decoration-style: initial\; text-decoration-color: initial\;'><span style="border: 0px\; font-style: inherit\; font-variant: inherit\; font-weight: 400\; font-stretch: inherit\; font-size: inherit\; line-height: inherit\; font-family: inherit\; font-optical-sizing: inherit\; font-size-adjust: inherit\; font-kerning: inherit\; font-feature-settings: inherit\; font-variation-settings: inherit\; font-language-override: inherit\; margin: 0px\; padding: 0px\; vertical-align: baseline\; color: inherit\;">👥 WHO SHOULD ATTEND?</span></p><ul fr-original-style='color: rgb(36\, 36\, 36)\; font-family: "Segoe UI"\, "Segoe UI Web (West European)"\, -apple-system\, BlinkMacSystemFont\, Roboto\, "Helvetica Neue"\, sans-serif\; font-size: 15px\; font-style: normal\; font-variant-ligatures: normal\; font-variant-caps: normal\; font-weight: 400\; letter-spacing: normal\; orphans: 2\; text-align: start\; text-indent: 0px\; text-transform: none\; widows: 2\; word-spacing: 0px\; -webkit-text-stroke-width: 0px\; white-space: normal\; background-color: rgb(255\, 255\, 255)\; text-decoration-thickness: initial\; text-decoration-style: initial\; text-decoration-color: initial\;' style='color: rgb(36\, 36\, 36)\; font-family: "Segoe UI"\, "Segoe UI Web (West European)"\, -apple-system\, BlinkMacSystemFont\, Roboto\, "Helvetica Neue"\, sans-serif\; font-size: 15px\; font-style: normal\; font-variant-ligatures: normal\; font-variant-caps: normal\; font-weight: 400\; letter-spacing: normal\; orphans: 2\; text-align: start\; text-indent: 0px\; text-transform: none\; widows: 2\; word-spacing: 0px\; -webkit-text-stroke-width: 0px\; white-space: normal\; background-color: rgb(255\, 255\, 255)\; text-decoration-thickness: initial\; text-decoration-style: initial\; text-decoration-color: initial\; list-style-position: inside\;'><li aria-level="1" style="font-weight: 400\;"><span style="border: 0px\; font-style: inherit\; font-variant: inherit\; font-weight: 400\; font-stretch: inherit\; font-size: inherit\; line-height: inherit\; font-family: inherit\; font-optical-sizing: inherit\; font-size-adjust: inherit\; font-kerning: inherit\; font-feature-settings: inherit\; font-variation-settings: inherit\; font-language-override: inherit\; margin: 0px\; padding: 0px\; vertical-align: baseline\; color: inherit\;">Parents and Guardians</span></li><li aria-level="1" style="font-weight: 400\;"><span style="border: 0px\; font-style: inherit\; font-variant: inherit\; font-weight: 400\; font-stretch: inherit\; font-size: inherit\; line-height: inherit\; font-family: inherit\; font-optical-sizing: inherit\; font-size-adjust: inherit\; font-kerning: inherit\; font-feature-settings: inherit\; font-variation-settings: inherit\; font-language-override: inherit\; margin: 0px\; padding: 0px\; vertical-align: baseline\; color: inherit\;">Local Business Owners</span></li><li aria-level="1" style="font-weight: 400\;"><span style="border: 0px\; font-style: inherit\; font-variant: inherit\; font-weight: 400\; font-stretch: inherit\; font-size: inherit\; line-height: inherit\; font-family: inherit\; font-optical-sizing: inherit\; font-size-adjust: inherit\; font-kerning: inherit\; font-feature-settings: inherit\; font-variation-settings: inherit\; font-language-override: inherit\; margin: 0px\; padding: 0px\; vertical-align: baseline\; color: inherit\;">Community Stakeholders</span></li><li aria-level="1" style="font-weight: 400\;"><span style="border: 0px\; font-style: inherit\; font-variant: inherit\; font-weight: 400\; font-stretch: inherit\; font-size: inherit\; line-height: inherit\; font-family: inherit\; font-optical-sizing: inherit\; font-size-adjust: inherit\; font-kerning: inherit\; font-feature-settings: inherit\; font-variation-settings: inherit\; font-language-override: inherit\; margin: 0px\; padding: 0px\; vertical-align: baseline\; color: inherit\;">Prospective Families</span></li></ul><p style='color: rgb(36\, 36\, 36)\; font-family: "Segoe UI"\, "Segoe UI Web (West European)"\, -apple-system\, BlinkMacSystemFont\, Roboto\, "Helvetica Neue"\, sans-serif\; font-size: 15px\; font-style: normal\; font-variant-ligatures: normal\; font-variant-caps: normal\; font-weight: 400\; letter-spacing: normal\; orphans: 2\; text-align: start\; text-indent: 0px\; text-transform: none\; widows: 2\; word-spacing: 0px\; -webkit-text-stroke-width: 0px\; white-space: normal\; background-color: rgb(255\, 255\, 255)\; text-decoration-thickness: initial\; text-decoration-style: initial\; text-decoration-color: initial\;'><strong fr-original-style="" style="font-weight: 700\;">Let&rsquo\;s work together to continue making Wayne Community Schools a place of excellence for every student.</strong></p><p style='color: rgb(36\, 36\, 36)\; font-family: "Segoe UI"\, "Segoe UI Web (West European)"\, -apple-system\, BlinkMacSystemFont\, Roboto\, "Helvetica Neue"\, sans-serif\; font-size: 15px\; font-style: normal\; font-variant-ligatures: normal\; font-variant-caps: normal\; font-weight: 400\; letter-spacing: normal\; orphans: 2\; text-align: start\; text-indent: 0px\; text-transform: none\; widows: 2\; word-spacing: 0px\; -webkit-text-stroke-width: 0px\; white-space: normal\; background-color: rgb(255\, 255\, 255)\; text-decoration-thickness: initial\; text-decoration-style: initial\; text-decoration-color: initial\;'><strong fr-original-style="" style="font-weight: 700\;">For more information\, please visit:</strong></p><p style='color: rgb(36\, 36\, 36)\; font-family: "Segoe UI"\, "Segoe UI Web (West European)"\, -apple-system\, BlinkMacSystemFont\, Roboto\, "Helvetica Neue"\, sans-serif\; font-size: 15px\; font-style: normal\; font-variant-ligatures: normal\; font-variant-caps: normal\; font-weight: 400\; letter-spacing: normal\; orphans: 2\; text-align: start\; text-indent: 0px\; text-transform: none\; widows: 2\; word-spacing: 0px\; -webkit-text-stroke-width: 0px\; white-space: normal\; background-color: rgb(255\, 255\, 255)\; text-decoration-thickness: initial\; text-decoration-style: initial\; text-decoration-color: initial\;'><span style="border: 0px\; font-style: inherit\; font-variant: inherit\; font-weight: 400\; font-stretch: inherit\; font-size: inherit\; line-height: inherit\; font-family: inherit\; font-optical-sizing: inherit\; font-size-adjust: inherit\; font-kerning: inherit\; font-feature-settings: inherit\; font-variation-settings: inherit\; font-language-override: inherit\; margin: 0px\; padding: 0px\; vertical-align: baseline\; color: inherit\;">🌐&nbsp\;<a data-auth="NotApplicable" data-linkindex="0" fr-original-style="border: 0px\; font: inherit\; margin: 0px\; padding: 0px\; vertical-align: baseline\;" href="https://urldefense.proofpoint.com/v2/url?u=http-3A__www.wayneschools.org&d=DwQFaQ&c=euGZstcaTDllvimEN8b7jXrwqOf-v5A_CdpgnVfiiMM&r=ocbjUlSyyVk3VOHYraUJAXFBDPyTZHkzmRojj60dvkk&m=oBYi-cf9txwLzb9kxGH-ECBVegXWzonYDQ1n17JHHM_9zH7e7G9ogEhHAgBkB9ub&s=apn3RLN31YjIolX_jSmKFkKXq6Gk5KjZUULNyM3l5cs&e=" style="border: 0px\; font: inherit\; margin: 0px\; padding: 0px\; vertical-align: baseline\; user-select: auto\; color: inherit\;" title="https://urldefense.proofpoint.com/v2/url?u=http-3A__www.wayneschools.org&d=DwQFaQ&c=euGZstcaTDllvimEN8b7jXrwqOf-v5A_CdpgnVfiiMM&r=ocbjUlSyyVk3VOHYraUJAXFBDPyTZHkzmRojj60dvkk&m=oBYi-cf9txwLzb9kxGH-ECBVegXWzonYDQ1n17JHHM_9zH7e7G9ogEhHAgBkB9ub&s=apn3RLN31YjIolX_jSmKFkKXq6Gk5KjZUULNyM3l5cs&e=">www.wayneschools.org</a></span></p><p style='color: rgb(36\, 36\, 36)\; font-family: "Segoe UI"\, "Segoe UI Web (West European)"\, -apple-system\, BlinkMacSystemFont\, Roboto\, "Helvetica Neue"\, sans-serif\; font-size: 15px\; font-style: normal\; font-variant-ligatures: normal\; font-variant-caps: normal\; font-weight: 400\; letter-spacing: normal\; orphans: 2\; text-align: start\; text-indent: 0px\; text-transform: none\; widows: 2\; word-spacing: 0px\; -webkit-text-stroke-width: 0px\; white-space: normal\; background-color: rgb(255\, 255\, 255)\; text-decoration-thickness: initial\; text-decoration-style: initial\; text-decoration-color: initial\;'><span style="border: 0px\; font-style: inherit\; font-variant: inherit\; font-weight: 400\; font-stretch: inherit\; font-size: inherit\; line-height: inherit\; font-family: inherit\; font-optical-sizing: inherit\; font-size-adjust: inherit\; font-kerning: inherit\; font-feature-settings: inherit\; font-variation-settings: inherit\; font-language-override: inherit\; margin: 0px\; padding: 0px\; vertical-align: baseline\; color: inherit\;">📞 (402) 375-3150</span></p></body></html>
LOCATION:611 W 7th Street F.R Hahn Auditorium Wayne NE 68787
UID:e.3678.1448546
SEQUENCE:3
DTSTAMP:20260422T000132Z
URL:https://business.wayneamerica.org/events/Details/community-forum-state-of-the-schools-1715545?sourceTypeId=Hub
END:VEVENT
END:VCALENDAR
