BEGIN:VCALENDAR
VERSION:2.0
PRODID:-//ChamberMaster//Event Calendar 2.0//EN
METHOD:PUBLISH
X-PUBLISHED-TTL:P1H
REFRESH-INTERVAL:P1H
CALSCALE:GREGORIAN
BEGIN:VTIMEZONE
TZID:America/Chicago
BEGIN:DAYLIGHT
RRULE:FREQ=YEARLY;BYMONTH=3;BYDAY=2SU
DTSTART:20070101T000000
TZOFFSETFROM:-0600
TZOFFSETTO:-0500
TZNAME:Central Daylight Time
END:DAYLIGHT
BEGIN:STANDARD
RRULE:FREQ=YEARLY;BYMONTH=11;BYDAY=1SU
DTSTART:20070101T000000
TZOFFSETFROM:-0500
TZOFFSETTO:-0600
TZNAME:Central Standard Time
END:STANDARD
END:VTIMEZONE
BEGIN:VEVENT
DTSTART;TZID=America/Chicago:20260517T140000
DTEND;TZID=America/Chicago:20260517T160000
X-MICROSOFT-CDO-ALLDAYEVENT:FALSE
SUMMARY:Better Together [PG-13]
DESCRIPTION:Tragedy ignites a group of teens on a quest to find a legendary landmark hidden in the wilderness. Together\, they navigate the adventure while confronting the darkness within themselves.
X-ALT-DESC;FMTTYPE=text/html:<!DOCTYPE html><html><head><title></title></head><body aria-disabled="false"><p>Tragedy ignites a group of teens on a quest to find a legendary landmark hidden in the wilderness. Together\, they navigate the adventure while confronting the darkness within themselves.&nbsp\;</p></body></html>
LOCATION:
UID:e.3678.1449019
SEQUENCE:3
DTSTAMP:20260424T024131Z
URL:https://business.wayneamerica.org/events/Details/better-together-pg-13-1716323?sourceTypeId=Hub
END:VEVENT
END:VCALENDAR
